BEGIN:VCALENDAR
VERSION:2.0
PRODID:-//IP.Board Calendar 4.4.10//EN
METHOD:PUBLISH
CALSCALE:GREGORIAN
X-WR-CALNAME:Community Calendar
BEGIN:VTIMEZONE
TZID:Europe/London
TZURL:http://tzurl.org/zoneinfo/Europe/London
X-LIC-LOCATION:Europe/London
BEGIN:DAYLIGHT
TZOFFSETFROM:+0000
TZOFFSETTO:+0100
TZNAME:BST
DTSTART:20180325T020000Z
RRULE:FREQ=YEARLY;BYMONTH=3;BYDAY=-1SU
END:DAYLIGHT
BEGIN:STANDARD
TZOFFSETFROM:+0100
TZOFFSETTO:+0000
TZNAME:GMT
DTSTART:20181028T020000Z
RRULE:FREQ=YEARLY;BYMONTH=10;BYDAY=-1SU
END:STANDARD
END:VTIMEZONE
BEGIN:VEVENT
SUMMARY:Atlanta Meet Up
DTSTAMP:20180803T221809Z
SEQUENCE:0
UID:5-1-bd95203971cd1418acf9f7af20c3c662@forums.bearbulltraders.com
ORGANIZER;CN="Josh Patterson":forums@bearbulltraders.com
DESCRIPTION:\n	Location: Grub Burger Bar - Akers Mill\n\n\n\n	Date: Satu
	rday\, August 18\, 2018\n\n\n\n	Time: 12:00PM EST\n\n\n\n	 \n\n\n
DTSTART:20180818T160000Z
END:VEVENT
END:VCALENDAR
