BEGIN:VCALENDAR
VERSION:2.0
PRODID:-//IP.Board Calendar 4.4.10//EN
METHOD:PUBLISH
CALSCALE:GREGORIAN
X-WR-CALNAME:Community Calendar
BEGIN:VTIMEZONE
TZID:Europe/London
TZURL:http://tzurl.org/zoneinfo/Europe/London
X-LIC-LOCATION:Europe/London
BEGIN:DAYLIGHT
TZOFFSETFROM:+0000
TZOFFSETTO:+0100
TZNAME:BST
DTSTART:20190331T020000Z
RRULE:FREQ=YEARLY;BYMONTH=3;BYDAY=-1SU
END:DAYLIGHT
BEGIN:STANDARD
TZOFFSETFROM:+0100
TZOFFSETTO:+0000
TZNAME:GMT
DTSTART:20191027T020000Z
RRULE:FREQ=YEARLY;BYMONTH=10;BYDAY=-1SU
END:STANDARD
END:VTIMEZONE
BEGIN:VEVENT
SUMMARY:Phoenix Meetup with Andrew and William
DTSTAMP:20190716T151804Z
SEQUENCE:0
UID:14-1-bd95203971cd1418acf9f7af20c3c662@forums.bearbulltraders.com
ORGANIZER;CN="MBlais":forums@bearbulltraders.com
DESCRIPTION:\n\n	 \n\n
DTSTART:20190803T010000Z
END:VEVENT
END:VCALENDAR
