BEGIN:VCALENDAR
VERSION:2.0
PRODID:-//IP.Board Calendar 4.4.10//EN
METHOD:PUBLISH
CALSCALE:GREGORIAN
X-WR-CALNAME:Community Calendar
BEGIN:VTIMEZONE
TZID:Europe/London
TZURL:http://tzurl.org/zoneinfo/Europe/London
X-LIC-LOCATION:Europe/London
BEGIN:DAYLIGHT
TZOFFSETFROM:+0000
TZOFFSETTO:+0100
TZNAME:BST
DTSTART:20180325T020000Z
RRULE:FREQ=YEARLY;BYMONTH=3;BYDAY=-1SU
END:DAYLIGHT
BEGIN:STANDARD
TZOFFSETFROM:+0100
TZOFFSETTO:+0000
TZNAME:GMT
DTSTART:20181028T020000Z
RRULE:FREQ=YEARLY;BYMONTH=10;BYDAY=-1SU
END:STANDARD
END:VTIMEZONE
BEGIN:VEVENT
SUMMARY:Montreal Meetup June 19\, 2018
DTSTAMP:20180610T224510Z
SEQUENCE:0
UID:1-1-bd95203971cd1418acf9f7af20c3c662@forums.bearbulltraders.com
ORGANIZER;CN="Robert H":forums@bearbulltraders.com
DESCRIPTION:\n	June 19 @ 8:15pm\n\n\n\n	Les 3 Brasseurs﻿﻿\n\n\n\n	73
	2 Ste-Catherine W﻿ \, Montreal \, QC \, H3B1B9﻿\n\n\n\n	 \n\n\n\n\
	n	 \n\n
DTSTART:20180620T031500Z
DTEND:20180620T065900Z
ATTENDEE;CN="Andrew Aziz";CUTYPE=INDIVIDUAL;PARTSTAT=ACCEPTE
	D:forums@bearbulltraders.com
END:VEVENT
END:VCALENDAR
